BEGIN:VCALENDAR
VERSION:2.0
PRODID:-//The Ohio Chapter of the Society of Pediatric Nurses - ECPv6.8.1//NONSGML v1.0//EN
CALSCALE:GREGORIAN
METHOD:PUBLISH
X-WR-CALNAME:The Ohio Chapter of the Society of Pediatric Nurses
X-ORIGINAL-URL:https://ohiopedsnurses.com
X-WR-CALDESC:Events for The Ohio Chapter of the Society of Pediatric Nurses
REFRESH-INTERVAL;VALUE=DURATION:PT1H
X-Robots-Tag:noindex
X-PUBLISHED-TTL:PT1H
BEGIN:VTIMEZONE
TZID:America/New_York
BEGIN:DAYLIGHT
TZOFFSETFROM:-0500
TZOFFSETTO:-0400
TZNAME:EDT
DTSTART:20230312T070000
END:DAYLIGHT
BEGIN:STANDARD
TZOFFSETFROM:-0400
TZOFFSETTO:-0500
TZNAME:EST
DTSTART:20231105T060000
END:STANDARD
END:VTIMEZONE
BEGIN:VEVENT
DTSTART;VALUE=DATE:20230511
DTEND;VALUE=DATE:20230512
DTSTAMP:20260425T072244
CREATED:20230426T151809Z
LAST-MODIFIED:20230426T152233Z
UID:2426-1683763200-1683849599@ohiopedsnurses.com
SUMMARY:SPN National Conference (Virtual)
DESCRIPTION:As a follow-up to the 2023 SPN National Conference\, the Society of Pediatric Nurses will be holding a one-day virtual event\, their Virtual Conference Bridge. This event will highlight the best of the in-person conference. You’ll be eligible to earn up to six contact hours! \n\nDate: May 11\nLocation: Virtual\nTheme: Building Bridges & Making Connections\n\nSee the website for more
URL:https://ohiopedsnurses.com/event/spn-national-conference-virtual/
LOCATION:AZ
CATEGORIES:National SPN Events
END:VEVENT
END:VCALENDAR