BEGIN:VCALENDAR
VERSION:2.0
PRODID:-//The Ohio Chapter of the Society of Pediatric Nurses - ECPv6.8.1//NONSGML v1.0//EN
CALSCALE:GREGORIAN
METHOD:PUBLISH
X-WR-CALNAME:The Ohio Chapter of the Society of Pediatric Nurses
X-ORIGINAL-URL:https://ohiopedsnurses.com
X-WR-CALDESC:Events for The Ohio Chapter of the Society of Pediatric Nurses
REFRESH-INTERVAL;VALUE=DURATION:PT1H
X-Robots-Tag:noindex
X-PUBLISHED-TTL:PT1H
BEGIN:VTIMEZONE
TZID:America/New_York
BEGIN:DAYLIGHT
TZOFFSETFROM:-0500
TZOFFSETTO:-0400
TZNAME:EDT
DTSTART:20220313T070000
END:DAYLIGHT
BEGIN:STANDARD
TZOFFSETFROM:-0400
TZOFFSETTO:-0500
TZNAME:EST
DTSTART:20221106T060000
END:STANDARD
END:VTIMEZONE
BEGIN:VEVENT
DTSTART;TZID=America/New_York:20221116T170000
DTEND;TZID=America/New_York:20221116T190000
DTSTAMP:20260426T001615
CREATED:20220207T012902Z
LAST-MODIFIED:20221007T163547Z
UID:2214-1668618000-1668625200@ohiopedsnurses.com
SUMMARY:Pediatric Nurses' Night Out
DESCRIPTION:Round out the year with us with one more Nurses’ Night Out. \n\nDate: Wednesday\, November 16\, 2022\nTime: 5-7 PM\nHost: Virtually hosted by Rainbow Babies & Children Hospital – Teams link will be sent out to registrants\nTopic: Stress Management and Resiliency Training (S.M.A.R.T.)\nPresenter: Karen (Kae) Ellen Fink BSN\, RN\, HNB-BC\, LMT\n\n\nClick Here To Register!
URL:https://ohiopedsnurses.com/event/nursesnightnov2022/
CATEGORIES:Nurses Night Out
ORGANIZER;CN="Ohio Society of Pediatric Nurses":MAILTO:ohiospn1@gmail.com
END:VEVENT
END:VCALENDAR