BEGIN:VCALENDAR
VERSION:2.0
PRODID:-//The Ohio Chapter of the Society of Pediatric Nurses - ECPv6.8.1//NONSGML v1.0//EN
CALSCALE:GREGORIAN
METHOD:PUBLISH
X-WR-CALNAME:The Ohio Chapter of the Society of Pediatric Nurses
X-ORIGINAL-URL:https://ohiopedsnurses.com
X-WR-CALDESC:Events for The Ohio Chapter of the Society of Pediatric Nurses
REFRESH-INTERVAL;VALUE=DURATION:PT1H
X-Robots-Tag:noindex
X-PUBLISHED-TTL:PT1H
BEGIN:VTIMEZONE
TZID:America/New_York
BEGIN:DAYLIGHT
TZOFFSETFROM:-0500
TZOFFSETTO:-0400
TZNAME:EDT
DTSTART:20230312T070000
END:DAYLIGHT
BEGIN:STANDARD
TZOFFSETFROM:-0400
TZOFFSETTO:-0500
TZNAME:EST
DTSTART:20231105T060000
END:STANDARD
END:VTIMEZONE
BEGIN:VEVENT
DTSTART;TZID=America/New_York:20230712T190000
DTEND;TZID=America/New_York:20230712T203000
DTSTAMP:20260425T135919
CREATED:20230426T161210Z
LAST-MODIFIED:20230625T150921Z
UID:2443-1689188400-1689193800@ohiopedsnurses.com
SUMMARY:Pediatric Nurses' Night Out
DESCRIPTION:We look forward to seeing you at our July 2023 Nurses Night and 18th birthday celebration!! \n\nDate: July 12\, 7-8:30 PM\nVirtual – Teams link will be sent out to registrants\nTopic: Sudden Cardiac Arrest\, Project ADAM\, and Preparing Schools and Organizations to be Heart Safe\nPresenters: Brenda Williams\, MSN\, RN\, CPN\, CCRN-K\, CHSE from Cincinnati Children’s\n\nClick here to register
URL:https://ohiopedsnurses.com/event/pnno-july-2023/
CATEGORIES:Nurses Night Out
ORGANIZER;CN="Ohio Society of Pediatric Nurses":MAILTO:ohiospn1@gmail.com
END:VEVENT
END:VCALENDAR