BEGIN:VCALENDAR
VERSION:2.0
PRODID:-//The Ohio Chapter of the Society of Pediatric Nurses - ECPv6.8.1//NONSGML v1.0//EN
CALSCALE:GREGORIAN
METHOD:PUBLISH
X-ORIGINAL-URL:https://ohiopedsnurses.com
X-WR-CALDESC:Events for The Ohio Chapter of the Society of Pediatric Nurses
REFRESH-INTERVAL;VALUE=DURATION:PT1H
X-Robots-Tag:noindex
X-PUBLISHED-TTL:PT1H
BEGIN:VTIMEZONE
TZID:America/New_York
BEGIN:DAYLIGHT
TZOFFSETFROM:-0500
TZOFFSETTO:-0400
TZNAME:EDT
DTSTART:20230312T070000
END:DAYLIGHT
BEGIN:STANDARD
TZOFFSETFROM:-0400
TZOFFSETTO:-0500
TZNAME:EST
DTSTART:20231105T060000
END:STANDARD
END:VTIMEZONE
BEGIN:VEVENT
DTSTART;TZID=America/New_York:20230308T190000
DTEND;TZID=America/New_York:20230308T203000
DTSTAMP:20260425T204257
CREATED:20230222T163029Z
LAST-MODIFIED:20230222T165523Z
UID:2378-1678302000-1678307400@ohiopedsnurses.com
SUMMARY:Pediatric Nurses' Night Out
DESCRIPTION:Kick off the 2023 OSPN schedule with a Pediatric Nurses’ Night Out! This is our OSPN Official Annual Meeting; we’d love to see you there. \n\nDate: Wednesday\, March 8\, 2023\nTime: 7-8:30 PM\nHost: Virtually hosted by Akron Children’s – Teams link will be sent out to registrants\nTopic: The Impact of the SPN Pediatric Nursing Excellence Model on Nursing in the Future\nPresenters: Rhonda Cooper\, MSN\, RN\, NEA-BC & Betsy McDowell\, PhD\, RN\, CNE\, ANEF\, FAAN\nContact Hours: 1.0\n\nCLICK HERE TO REGISTER
URL:https://ohiopedsnurses.com/event/pediatric-nurses-night-out/
CATEGORIES:Nurses Night Out
END:VEVENT
END:VCALENDAR